BEGIN:VCALENDAR
VERSION:2.0
PRODID:-//interkulturelles netzwerk e.v. - internationale jugendbegegnungen, workcamps, sprachkurse, Aus- und Fortbildungen Interkulturelles Lernen - ECPv6.15.20//NONSGML v1.0//EN
CALSCALE:GREGORIAN
METHOD:PUBLISH
X-ORIGINAL-URL:https://interkulturelles-netzwerk.de
X-WR-CALDESC:Veranstaltungen für interkulturelles netzwerk e.v. - internationale jugendbegegnungen, workcamps, sprachkurse, Aus- und Fortbildungen Interkulturelles Lernen
REFRESH-INTERVAL;VALUE=DURATION:PT1H
X-Robots-Tag:noindex
X-PUBLISHED-TTL:PT1H
BEGIN:VTIMEZONE
TZID:Europe/Berlin
BEGIN:DAYLIGHT
TZOFFSETFROM:+0100
TZOFFSETTO:+0200
TZNAME:CEST
DTSTART:20230326T010000
END:DAYLIGHT
BEGIN:STANDARD
TZOFFSETFROM:+0200
TZOFFSETTO:+0100
TZNAME:CET
DTSTART:20231029T010000
END:STANDARD
BEGIN:DAYLIGHT
TZOFFSETFROM:+0100
TZOFFSETTO:+0200
TZNAME:CEST
DTSTART:20240331T010000
END:DAYLIGHT
BEGIN:STANDARD
TZOFFSETFROM:+0200
TZOFFSETTO:+0100
TZNAME:CET
DTSTART:20241027T010000
END:STANDARD
BEGIN:DAYLIGHT
TZOFFSETFROM:+0100
TZOFFSETTO:+0200
TZNAME:CEST
DTSTART:20250330T010000
END:DAYLIGHT
BEGIN:STANDARD
TZOFFSETFROM:+0200
TZOFFSETTO:+0100
TZNAME:CET
DTSTART:20251026T010000
END:STANDARD
END:VTIMEZONE
BEGIN:VEVENT
DTSTART;VALUE=DATE:20240708
DTEND;VALUE=DATE:20240714
DTSTAMP:20260424T000300
CREATED:20240129T122643Z
LAST-MODIFIED:20240412T094550Z
UID:3042-1720396800-1720915199@interkulturelles-netzwerk.de
SUMMARY:Deutsch-französisch-griechische Grundausbildung zur Sprachanimation
DESCRIPTION:Eine Grundausbildung in die Methode der Sprachanimation mit Teilnehmenden aus Deutschland\, Frankreich und Griechenland\nVom 08. – 13.07.2023 in Thessaloniki in Griechenland \nEine Anmeldung ist ab sofort möglich ! \nSprachanimation ist aus der interkulturellen Jugendbildung nicht mehr wegzudenken. In vielen internationalen Kontexten gehört es zum Standard mit verschiedenen Methoden die Teilnehmenden dazu zu bringen ihre Sprachangst zu verlieren und die Sprache der Anwesenden wertzuschätzen. Mit Sprachanimation können natürliche Kommunikationsstrategien der Anwesenden unterstützt und die Neugier auf die Partnersprachen geweckt werden. Die Durchführung von mindestens einer Stunde Sprachanimation am Tag gilt für viele interkulturelle Seminaranbieter zum Qualitätsmerkmal für ihre bi- \, tri- und manchmal auch multilateralen Programme. \nDas besondere an dieser Fortbildung ist der dreisprachige Kontext und der zusätzliche Umgang mit einem nichtlateinischen Alphabet. Am Beispiel der griechischen Sprache und Schrift können wir lernen wie wir mit dieser Situation\, die im interkulturellen Begegnungskontext oft stattfindet\, umgehen können. Ziel ist es Neugier auf das Unbekannte wecken zu können. \nAuch bei dieser Fortbildung werden wir viele Methoden miteinander ausprobieren und die fünf Säulen der Sprachanimation kennenlernen: Abbau von Hemmungen\, Spracherwerb\, Systematisation\, Mehrsprachigkeit und Bewußtwerdung. Die Teilnehmenden werden dann eigene Sprachanimationsmethoden entwickeln und sie an ihre Arbeitskontexte (schulisch – außerschulisch) anpassen können.  Alle offiziellen Momente werden konsekutiv in die drei Seminarsprachen Deutsch\, Griechisch und Französisch übersetzt. \nWeitere Informationen auf unserer Webseite zur Sprachanimation: www.sprachanimation.de \nBei Eignung kann das DFJW Zertifikat für Sprachanimateurinnen und Sprachanimateure in deutsch-französischen Jugendbegegnungen verliehen werden. Weitere Informationen zu den Zertifikaten entnehmen Sie bitte hier der entsprechenden Webseite des DFJW. Teamer*innen mit Zertifikat können sich in einer Datenbank des DFJW eintragen und bei Bedarf an unterschiedliche Seminaranbieter vermitteln lassen. \nDiese Fortbildung wird vom Deutsch-Französischen Jugendwerk unterstützt. Das Mindestalter zur Teilnahme beträgt 18 Jahre\, es gibt keine Altersbeschränkung nach oben. \nDer Vereinsbeitrag beträgt 260 Euro. Darin sind die Aufenthaltskosten (Unterbringung in Doppel- und Mehrbettzimmern) im unten angebgebenen Veranstaltungsort\, Vollverpflegung (auf Wünsche wird nach Möglichkeit eingegangen)\, sowie alle Programm- und Übersetzungskosten enthalten. \nDie Fahrt wird nach den Grundsätzen des DFJW erstattet. Einzelheiten entnehmen Sie bitte dieser Information. \nBitte melden Sie sich mit dem unten angehängten Formular an. \nDiese Fortbildung wird freundlicherweise vom deutsche-französischen Jugendwerk unterstützt. \n  \n 
URL:https://interkulturelles-netzwerk.de/event/deutsch-franzoesisch-griechische-grundausbildung-zur-sprachanimation
LOCATION:Thessaloniki\, Griechenland
CATEGORIES:Fortbildung mit DFJW Zertifikat,Grundausbildung
ATTACH;FMTTYPE=image/jpeg:https://interkulturelles-netzwerk.de/wp-content/uploads/2024/01/37066D34-C39B-4767-8CD0-16C2DB8BCA03-e1643732573261-zFh9nZ.tmp_-H0ZveQ.tmp_.jpg
ORGANIZER;CN="Arpeggio":MAILTO:enrico@arpeggio.gr
END:VEVENT
BEGIN:VEVENT
DTSTART;VALUE=DATE:20240719
DTEND;VALUE=DATE:20240801
DTSTAMP:20260424T000300
CREATED:20240129T122644Z
LAST-MODIFIED:20240412T094550Z
UID:3045-1721347200-1722470399@interkulturelles-netzwerk.de
SUMMARY:Deutsch-französischer Tandemsprachkurs
DESCRIPTION:Termin: 19.07.-31.07.2024 in Deutschland und Frankreich  \n19. – 25.07.2024 in Berlin\, Deutschland \n25. – 31.07.2024 in Douarnenez\, Frankreich  \nAlter: 14-17 Jahre mit etwa 2jähriger französischer Spracherfahrung \nOrt: Berlin in Deutschland und Douarnenez in Frankreich \nAm Tandemkurs nehmen zwölf französische und zwölf deutsche Jugendliche teil. Ziel ist es die komunikativen Fähigkeiten im Französischen durch den direkten Kontakt im Rahmen der Begegnung zu fördern und zu erweitern. Alle Jugendlichen sollten bereits mindestens 2 Jahre Sprachnuterricht an der Schule erhalten haben. \nEs werden an jedem Tag mindestens 4 Stunden Spracharbeit in vielfältigen Lernmodulen angeboten. Hier wird oft im Tandem gearbeitet\, das bedeutet dass sich die Teilnehmenden entsprechend ihrer eigenen Bedürfnisse gegenseitig beibringen. Sprachlernen wird so nicht mit Notendruck und ohne Abstrakt sondern mit Spaß und direktem Kontakt vermittelt – so lässt sich die Sprach- und Kommunikationskompetenz in der realen Begegnungssituation spürbar verbessern! \nNeben der Spracharbeit bieten wir ein interessantes Rahmenprogramm mit Ausflügen\, Freizeitangeboten und interkulturellen Kennenlernmethoden\, die viele weitere Kommunikationsmöglichkeiten zwischen den Teilnehmenden eröffnen. \nDen Jugendlichen steht ein kompetentes und erfahrenes deutsch-französisches Team beiseite\, die sowohl über das Zertifikat zur Tandemarbeit des DFJW als auch über interkulturelle Kompetenzen verfügen. \nDer Vereinsbeitrag beträgt 700 Euro. In der Gebühr ist die Reise mit dem von/bis Berlin \, die Vollverpflegung\, Unterkunft in Mehrbettzimmern\, alle Programmkosten und die Betreuung enthalten. \nDie erste Woche wird in Berlin stattfinden. Der Transfer nach Frankreich erfolgt mit der gesamten Gruppe mit dem Zug. Auch die Rückreise nach Berlin erfolgt mit dem Zug wobei die Möglichkeit besteht unterwegs auszusteigen um eine Reise zum Heimatort zu organisieren. \nUns ist bewußt\, dass in der aktuellen Krise die Finanzierung des Beitrages für viele Teilnehmende und ihren Familien nicht einfach ist. Für diese Menschen bieten wir an\, bei der Buchung eines Tickets beim Bezahlvorgang mit dem Gutscheincode “Tandem2024” den Beitrag um 200 Euro zu senken. Wir bitten darum diesen Code verantwortungsbewusst einzusetzen. Bei weiteren Finanzierungsproblemen sind wir ansprechbar. \nDeutscher Veranstalter dieser Begegnung ist die kultur-gut gUG\, Karl Marx Str. 33\, 16816 Neuruppin. Diese Firma ist eine Tochter des Interkulturellen Netzwerkes. Wir sind für Rückfragen unter buero@kultur-gut.de erreichbar. \nDie Begegnung wird freundlicherweise vom Deutsch-Französischen Jugendwerk unterstützt.
URL:https://interkulturelles-netzwerk.de/event/deutsch-franzoesischer-tandemsprachkurs
LOCATION:Centre nautique municipal de Douarnenez\, 8 Rue du Môle\, Douarnenez\, 29100\, Frankreich
CATEGORIES:Jugendbegegnung,Tandem
ATTACH;FMTTYPE=image/png:https://interkulturelles-netzwerk.de/wp-content/uploads/2024/01/1000015648-e1702373367853-5ykN8K.tmp_.png
ORGANIZER;CN="kultur-gut gUG":MAILTO:buero@kultur-gut.de
END:VEVENT
BEGIN:VEVENT
DTSTART;VALUE=DATE:20240720
DTEND;VALUE=DATE:20240728
DTSTAMP:20260424T000300
CREATED:20240129T122652Z
LAST-MODIFIED:20240412T094550Z
UID:3054-1721433600-1722124799@interkulturelles-netzwerk.de
SUMMARY:Sportprojekt mit Frankreich und Griechenland in den Cevennen
DESCRIPTION:Termin: 20.-27.07.2024 \nAlter: 14-17 Jahre  \nOrt: Valgorge\, Frankreich \nIn diesem Sommer veranstalten wie eine deutsch-französisch-griechische Begegung in den französischen Cevennen an.  \nDer Fokus des Projektes liegt auf sportlichen Aktivitäten und dem Entdecken der fremden Sprachen und Kulturen. Im Programm sind Ausflüge und Angebote wie Klettern\, Bogenschießen und Erlebnispädagogik und dazu tägliche Sprachnanimationen\, welche den Teilnehmenden dabei helfen\, sich der anderen Sprache anzunähern und die eigene Kenntnisse zu vertiefen. \nEs erwartet uns also ein volles Programm\, das euch aber auch die Möglichkeit gibt\, eure Freizeit unter der französischen Sonne zu verbringen. \nDer Vereinsbeitrag beträgt 400 Euro. In der Gebühr ist die Reise von/bis Berlin (oder nach Absprache einer anderen Stadt in Deutschland)\, die Vollverpflegung\, Unterkunft in Mehrbettzimmern\, alle Programmkosten und die Betreuung enthalten. Nach Frankreich werden wir nachhaltig mit dem Zug anreisen. \nUns ist bewußt\, dass in der aktuellen Krise die Finanzierung des Beitrages für viele Teilnehmende und ihren Familien nicht einfach ist. Für diese Menschen bieten wir an\, bei der Buchung eines Tickets beim Bezahlvorgang mit dem Gutscheincode “Krise2024” den Beitrag um 100 Euro zu senken. Wir bitten darum diesen Code verantwortungsbewusst einzusetzen. Bei weiteren Finanzierungsproblemen sind wir ansprechbar. \nDeutscher Veranstalter dieser Begegnung ist die kultur-gut gUG\, Karl Marx Str. 33\, 16816 Neuruppin. Diese Firma ist eine Tochter des Interkulturellen Netzwerkes. Wir sind für Rückfragen unter buero@kultur-gut.de erreichbar. \nDieser Austausch wird freundlicherweise vom deutsch-französischen Jugendwerk (DFJW) und dem deutsch-griechischen Jugendwerk (DGJW) finanziell unterstützt.
URL:https://interkulturelles-netzwerk.de/event/sportprojekt-mit-frankreich-und-griechenland-in-den-cevennen
LOCATION:La Ferme de Chalas\, 175 Impasse de la Denave\, Valgorge\, 07110\, Frankreich
CATEGORIES:Jugendbegegnung
ATTACH;FMTTYPE=image/jpeg:https://interkulturelles-netzwerk.de/wp-content/uploads/2024/01/CEC9A028-D095-450A-9435-FCC6C4184830-e1643639708827-lJXzNw.tmp_-7Icfgk.tmp_.jpg
ORGANIZER;CN="kultur-gut gUG":MAILTO:buero@kultur-gut.de
END:VEVENT
BEGIN:VEVENT
DTSTART;VALUE=DATE:20240726
DTEND;VALUE=DATE:20240803
DTSTAMP:20260424T000300
CREATED:20240129T122653Z
LAST-MODIFIED:20240412T094550Z
UID:3057-1721952000-1722643199@interkulturelles-netzwerk.de
SUMMARY:Erlebniscamp in Frankreich !
DESCRIPTION:Termin: 26.07.-02.08.24\n \nAlter: 13-16 Jahre  \nOrt: Mahalon\, Bretagne\, Frankreich \nWer Lust auf eine sportliche Woche am Meer und mit französischen Gleichaltrigen hat\, der ist hier genau richtig. \nIn Mahalon\, einem kleinen Ort in der Bretagne \,könnt ihr gemeinsam auf und im Wasser aktiv sein. Unser Programm besteht aus einem Mix aus Segeln und Kanufahren\, Kennenlernspielen\, Ausflügen\, Stadtrally\, einer Disco und weiteren Aktivitäten.  \nSo könnt ihr Frankreich und die französische Kultur kennenlernen und ganz ohne Notenstress euer Französisch ausprobieren oder über unsere Sprachanimation spielerisch neu erlernen. \nDer Vereinsbeitrag beträgt 350 Euro. In der Gebühr ist die Reise von/bis Berlin (oder nach Absprache einer anderen Stadt in Deutschland)\, die Vollverpflegung\, Unterkunft in Mehrbettzimmern\, alle Programmkosten und die Betreuung enthalten. Wir versuchen immer nachhaltig zu reisen. \nUns ist bewußt\, dass in der aktuellen Krise die Finanzierung des Beitrages für viele Teilnehmende und ihren Familien nicht einfach ist. Für diese Menschen bieten wir an\, bei der Buchung eines Tickets beim Bezahlvorgang mit dem Gutscheincode “Krise2024” den Beitrag um 100 Euro zu senken. Wir bitten darum diesen Code verantwortungsbewusst einzusetzen. Bei weiteren Finanzierungsproblemen sind wir ansprechbar. \nDeutscher Veranstalter dieser Begegnung ist die kultur-gut gUG\, Karl Marx Str. 33\, 16816 Neuruppin. Diese Firma ist eine Tochter des Interkulturellen Netzwerkes. Wir sind für Rückfragen unter buero@kultur-gut.de erreichbar. \nDiese Begegnung wird freundlicherweise vom Deutsch-Französischen Jugendwerk unterstützt.
URL:https://interkulturelles-netzwerk.de/event/erlebniscamp-in-frankreich
LOCATION:Gîte de groupe de Mahalon\, Lohantec\, Mahalon\, 29790\, Frankreich
CATEGORIES:Jugendbegegnung
ATTACH;FMTTYPE=image/jpeg:https://interkulturelles-netzwerk.de/wp-content/uploads/2024/01/74B36E4E-EBA5-44A5-BFCE-8B8AE06CD1BA-e1643643318487-iQm1to.tmp_-ju1ZcU.tmp_.jpg
ORGANIZER;CN="kultur-gut gUG":MAILTO:buero@kultur-gut.de
END:VEVENT
END:VCALENDAR