BEGIN:VCALENDAR
VERSION:2.0
PRODID:-//interkulturelles netzwerk e.v. - internationale jugendbegegnungen, workcamps, sprachkurse, Aus- und Fortbildungen Interkulturelles Lernen - ECPv6.15.20//NONSGML v1.0//EN
CALSCALE:GREGORIAN
METHOD:PUBLISH
X-WR-CALNAME:interkulturelles netzwerk e.v. - internationale jugendbegegnungen, workcamps, sprachkurse, Aus- und Fortbildungen Interkulturelles Lernen
X-ORIGINAL-URL:https://interkulturelles-netzwerk.de
X-WR-CALDESC:Veranstaltungen für interkulturelles netzwerk e.v. - internationale jugendbegegnungen, workcamps, sprachkurse, Aus- und Fortbildungen Interkulturelles Lernen
REFRESH-INTERVAL;VALUE=DURATION:PT1H
X-Robots-Tag:noindex
X-PUBLISHED-TTL:PT1H
BEGIN:VTIMEZONE
TZID:Europe/Berlin
BEGIN:DAYLIGHT
TZOFFSETFROM:+0100
TZOFFSETTO:+0200
TZNAME:CEST
DTSTART:20230326T010000
END:DAYLIGHT
BEGIN:STANDARD
TZOFFSETFROM:+0200
TZOFFSETTO:+0100
TZNAME:CET
DTSTART:20231029T010000
END:STANDARD
BEGIN:DAYLIGHT
TZOFFSETFROM:+0100
TZOFFSETTO:+0200
TZNAME:CEST
DTSTART:20240331T010000
END:DAYLIGHT
BEGIN:STANDARD
TZOFFSETFROM:+0200
TZOFFSETTO:+0100
TZNAME:CET
DTSTART:20241027T010000
END:STANDARD
BEGIN:DAYLIGHT
TZOFFSETFROM:+0100
TZOFFSETTO:+0200
TZNAME:CEST
DTSTART:20250330T010000
END:DAYLIGHT
BEGIN:STANDARD
TZOFFSETFROM:+0200
TZOFFSETTO:+0100
TZNAME:CET
DTSTART:20251026T010000
END:STANDARD
END:VTIMEZONE
BEGIN:VEVENT
DTSTART;VALUE=DATE:20240726
DTEND;VALUE=DATE:20240803
DTSTAMP:20260423T212802
CREATED:20240129T122653Z
LAST-MODIFIED:20240412T094550Z
UID:3057-1721952000-1722643199@interkulturelles-netzwerk.de
SUMMARY:Erlebniscamp in Frankreich !
DESCRIPTION:Termin: 26.07.-02.08.24\n \nAlter: 13-16 Jahre  \nOrt: Mahalon\, Bretagne\, Frankreich \nWer Lust auf eine sportliche Woche am Meer und mit französischen Gleichaltrigen hat\, der ist hier genau richtig. \nIn Mahalon\, einem kleinen Ort in der Bretagne \,könnt ihr gemeinsam auf und im Wasser aktiv sein. Unser Programm besteht aus einem Mix aus Segeln und Kanufahren\, Kennenlernspielen\, Ausflügen\, Stadtrally\, einer Disco und weiteren Aktivitäten.  \nSo könnt ihr Frankreich und die französische Kultur kennenlernen und ganz ohne Notenstress euer Französisch ausprobieren oder über unsere Sprachanimation spielerisch neu erlernen. \nDer Vereinsbeitrag beträgt 350 Euro. In der Gebühr ist die Reise von/bis Berlin (oder nach Absprache einer anderen Stadt in Deutschland)\, die Vollverpflegung\, Unterkunft in Mehrbettzimmern\, alle Programmkosten und die Betreuung enthalten. Wir versuchen immer nachhaltig zu reisen. \nUns ist bewußt\, dass in der aktuellen Krise die Finanzierung des Beitrages für viele Teilnehmende und ihren Familien nicht einfach ist. Für diese Menschen bieten wir an\, bei der Buchung eines Tickets beim Bezahlvorgang mit dem Gutscheincode “Krise2024” den Beitrag um 100 Euro zu senken. Wir bitten darum diesen Code verantwortungsbewusst einzusetzen. Bei weiteren Finanzierungsproblemen sind wir ansprechbar. \nDeutscher Veranstalter dieser Begegnung ist die kultur-gut gUG\, Karl Marx Str. 33\, 16816 Neuruppin. Diese Firma ist eine Tochter des Interkulturellen Netzwerkes. Wir sind für Rückfragen unter buero@kultur-gut.de erreichbar. \nDiese Begegnung wird freundlicherweise vom Deutsch-Französischen Jugendwerk unterstützt.
URL:https://interkulturelles-netzwerk.de/event/erlebniscamp-in-frankreich
LOCATION:Gîte de groupe de Mahalon\, Lohantec\, Mahalon\, 29790\, Frankreich
CATEGORIES:Jugendbegegnung
ATTACH;FMTTYPE=image/jpeg:https://interkulturelles-netzwerk.de/wp-content/uploads/2024/01/74B36E4E-EBA5-44A5-BFCE-8B8AE06CD1BA-e1643643318487-iQm1to.tmp_-ju1ZcU.tmp_.jpg
ORGANIZER;CN="kultur-gut gUG":MAILTO:buero@kultur-gut.de
END:VEVENT
END:VCALENDAR